BEGIN:VCALENDAR
VERSION:2.0
PRODID:-//Site officiel de la commune de Beuste - ECPv6.15.20//NONSGML v1.0//EN
CALSCALE:GREGORIAN
METHOD:PUBLISH
X-WR-CALNAME:Site officiel de la commune de Beuste
X-ORIGINAL-URL:https://beuste.fr
X-WR-CALDESC:Évènements pour Site officiel de la commune de Beuste
REFRESH-INTERVAL;VALUE=DURATION:PT1H
X-Robots-Tag:noindex
X-PUBLISHED-TTL:PT1H
BEGIN:VTIMEZONE
TZID:Europe/Paris
BEGIN:DAYLIGHT
TZOFFSETFROM:+0100
TZOFFSETTO:+0200
TZNAME:CEST
DTSTART:20250330T010000
END:DAYLIGHT
BEGIN:STANDARD
TZOFFSETFROM:+0200
TZOFFSETTO:+0100
TZNAME:CET
DTSTART:20251026T010000
END:STANDARD
BEGIN:DAYLIGHT
TZOFFSETFROM:+0100
TZOFFSETTO:+0200
TZNAME:CEST
DTSTART:20260329T010000
END:DAYLIGHT
BEGIN:STANDARD
TZOFFSETFROM:+0200
TZOFFSETTO:+0100
TZNAME:CET
DTSTART:20261025T010000
END:STANDARD
BEGIN:DAYLIGHT
TZOFFSETFROM:+0100
TZOFFSETTO:+0200
TZNAME:CEST
DTSTART:20270328T010000
END:DAYLIGHT
BEGIN:STANDARD
TZOFFSETFROM:+0200
TZOFFSETTO:+0100
TZNAME:CET
DTSTART:20271031T010000
END:STANDARD
END:VTIMEZONE
BEGIN:VEVENT
DTSTART;TZID=Europe/Paris:20260426T140000
DTEND;TZID=Europe/Paris:20260426T140000
DTSTAMP:20260423T015534
CREATED:20260402T130956Z
LAST-MODIFIED:20260420T145644Z
UID:9672-1777212000-1777212000@beuste.fr
SUMMARY:Le bal des familles pour le mois béarnais
DESCRIPTION:Dans le cadre du mois béarnais\, l’association Vath a Hum organise le 26 avril 2026\, un bal des familles avec initiation de danse traditionnelle.  \nInfos pratiques :  \n\nSalle des fêtes de Beuste\nDés 14H\nEntrée gratuite\nOuvert à tous
URL:https://beuste.fr/evenement/le-bal-des-familles-pour-le-mois-bearnais
LOCATION:Salle des fêtes\, BEUSTE\, France
ATTACH;FMTTYPE=image/jpeg:https://beuste.fr/wp-content/uploads/2026/04/1000044415.jpg
END:VEVENT
END:VCALENDAR